BEGIN:VCALENDAR
VERSION:2.0
PRODID:-//Verband Deutscher Naturparke - ECPv6.15.17//NONSGML v1.0//EN
CALSCALE:GREGORIAN
METHOD:PUBLISH
X-WR-CALNAME:Verband Deutscher Naturparke
X-ORIGINAL-URL:https://naturparke.de
X-WR-CALDESC:Veranstaltungen für Verband Deutscher Naturparke
REFRESH-INTERVAL;VALUE=DURATION:PT1H
X-Robots-Tag:noindex
X-PUBLISHED-TTL:PT1H
BEGIN:VTIMEZONE
TZID:Europe/Berlin
BEGIN:DAYLIGHT
TZOFFSETFROM:+0100
TZOFFSETTO:+0200
TZNAME:CEST
DTSTART:20230326T010000
END:DAYLIGHT
BEGIN:STANDARD
TZOFFSETFROM:+0200
TZOFFSETTO:+0100
TZNAME:CET
DTSTART:20231029T010000
END:STANDARD
BEGIN:DAYLIGHT
TZOFFSETFROM:+0100
TZOFFSETTO:+0200
TZNAME:CEST
DTSTART:20240331T010000
END:DAYLIGHT
BEGIN:STANDARD
TZOFFSETFROM:+0200
TZOFFSETTO:+0100
TZNAME:CET
DTSTART:20241027T010000
END:STANDARD
BEGIN:DAYLIGHT
TZOFFSETFROM:+0100
TZOFFSETTO:+0200
TZNAME:CEST
DTSTART:20250330T010000
END:DAYLIGHT
BEGIN:STANDARD
TZOFFSETFROM:+0200
TZOFFSETTO:+0100
TZNAME:CET
DTSTART:20251026T010000
END:STANDARD
END:VTIMEZONE
BEGIN:VEVENT
DTSTART;TZID=Europe/Berlin:20240906T093000
DTEND;TZID=Europe/Berlin:20240906T120000
DTSTAMP:20260425T230817
CREATED:20240808T120705Z
LAST-MODIFIED:20240925T152410Z
UID:13132-1725615000-1725624000@naturparke.de
SUMMARY:Online-Veranstaltung zum neuen Bundes-Klimaanpassungsgesetzes (KAnG) am 06.09.2024
DESCRIPTION:Dieser Inhalt befindet sich im passwortgeschützten Bereich für Mitglieder des VDN. Hier geht's zum Login!
URL:https://naturparke.de/veranstaltung/13132/
LOCATION:online
CATEGORIES:Infoveranstaltungen
END:VEVENT
END:VCALENDAR