BEGIN:VCALENDAR
VERSION:2.0
PRODID:-//Verband Deutscher Naturparke - ECPv6.15.17//NONSGML v1.0//EN
CALSCALE:GREGORIAN
METHOD:PUBLISH
X-ORIGINAL-URL:https://naturparke.de
X-WR-CALDESC:Veranstaltungen für Verband Deutscher Naturparke
REFRESH-INTERVAL;VALUE=DURATION:PT1H
X-Robots-Tag:noindex
X-PUBLISHED-TTL:PT1H
BEGIN:VTIMEZONE
TZID:Europe/Berlin
BEGIN:DAYLIGHT
TZOFFSETFROM:+0100
TZOFFSETTO:+0200
TZNAME:CEST
DTSTART:20220327T010000
END:DAYLIGHT
BEGIN:STANDARD
TZOFFSETFROM:+0200
TZOFFSETTO:+0100
TZNAME:CET
DTSTART:20221030T010000
END:STANDARD
BEGIN:DAYLIGHT
TZOFFSETFROM:+0100
TZOFFSETTO:+0200
TZNAME:CEST
DTSTART:20230326T010000
END:DAYLIGHT
BEGIN:STANDARD
TZOFFSETFROM:+0200
TZOFFSETTO:+0100
TZNAME:CET
DTSTART:20231029T010000
END:STANDARD
BEGIN:DAYLIGHT
TZOFFSETFROM:+0100
TZOFFSETTO:+0200
TZNAME:CEST
DTSTART:20240331T010000
END:DAYLIGHT
BEGIN:STANDARD
TZOFFSETFROM:+0200
TZOFFSETTO:+0100
TZNAME:CET
DTSTART:20241027T010000
END:STANDARD
END:VTIMEZONE
BEGIN:VEVENT
DTSTART;TZID=Europe/Berlin:20231116T100000
DTEND;TZID=Europe/Berlin:20231116T123000
DTSTAMP:20260420T194706
CREATED:20240710T070437Z
LAST-MODIFIED:20240925T090157Z
UID:12660-1700128800-1700137800@naturparke.de
SUMMARY:Digitale Schulung von Outdooractive
DESCRIPTION:Dieser Inhalt befindet sich im passwortgeschützten Bereich für Mitglieder des VDN. Hier geht's zum Login!
URL:https://naturparke.de/veranstaltung/digitale-schulung-von-outdooractive/
LOCATION:online
CATEGORIES:Fortbildungen
ORGANIZER;CN="VDN e.V.":MAILTO:info@naturparke.de
END:VEVENT
END:VCALENDAR